BEGIN:VCALENDAR
VERSION:2.0
PRODID:-//Contratero//ES
CALSCALE:GREGORIAN
METHOD:PUBLISH
BEGIN:VEVENT
UID:T-SU 20.04/022020 L4.12@contratero.es
DTSTAMP:20260424T070146Z
DTSTART:20240513T235959
DTEND:20240514T005959
SUMMARY:Cierre: Suministro de Dispositivos de Impresión
DESCRIPTION:Suministro de Dispositivos de Impresión\\n\\nOrganismo: Gerencia de Transportes Interurbanos de Tenerife S.A.U.\\n\\nVer en Contratero: https://contratero.es/contracts/T-SU 20.04/022020 L4.12
URL:https://contratero.es/contracts/T-SU 20.04/022020 L4.12
STATUS:CONFIRMED
BEGIN:VALARM
TRIGGER:-P1D
ACTION:DISPLAY
DESCRIPTION:Recordatorio: Suministro de Dispositivos de 
END:VALARM
END:VEVENT
END:VCALENDAR